BEGIN:VCALENDAR
VERSION:2.0
PRODID:http://pfarrei-steinbach.de
BEGIN:VEVENT
UID:d9b3cb18-3584-11f1-a8bf-0242ac11002b-1778328000000-de
DTSTAMP:20260411T090012Z
DTSTART:20260509T120000Z
DTEND:20260509T130000Z
SUMMARY;LANGUAGE=de:Jubiläumsgottesdienst anl. d. 50 jährigen Bestehen vom Kindergarten St. Anna
END:VEVENT
END:VCALENDAR
