BEGIN:VCALENDAR
VERSION:2.0
PRODID:http://pfarrei-steinbach.de
BEGIN:VEVENT
UID:d57e2938-30cd-11f1-a8bf-0242ac11002b-1777793400000-de
DTSTAMP:20260405T090003Z
DTSTART:20260503T073000Z
DTEND:20260503T083000Z
SUMMARY;LANGUAGE=de:Eucharistiefeier mit Herrn Domdekan Dr. Hubert Schiepek (Domkapitel)
DESCRIPTION;LANGUAGE=de:zur Domkirchweih mit dem Eichstätter Domkinderchor und der Aufbauchor der Mädchenkantorei Bamberg
END:VEVENT
END:VCALENDAR
