BEGIN:VCALENDAR
VERSION:2.0
PRODID:http://pfarrei-steinbach.de
BEGIN:VEVENT
UID:cc059231-36ba-11f1-a8bf-0242ac11002b-1777215600000-de
DTSTAMP:20260412T215853Z
DTSTART:20260426T150000Z
DTEND:20260426T160000Z
SUMMARY;LANGUAGE=de:Dankandacht der Kommunionkinder und Jubilarinne und Jubilare
END:VEVENT
END:VCALENDAR
