BEGIN:VCALENDAR
VERSION:2.0
PRODID:http://pfarrei-steinbach.de
BEGIN:VEVENT
UID:cbea1aee-36ba-11f1-a8bf-0242ac11002b-1777039200000-de
DTSTAMP:20260412T215853Z
DTSTART:20260424T140000Z
DTEND:20260424T150000Z
SUMMARY;LANGUAGE=de:Erstbeichte der Kommunionkinder aus Buchbach/Tettau
DESCRIPTION;LANGUAGE=de:im Anschluss Probe mit den Eltern
END:VEVENT
END:VCALENDAR
