BEGIN:VCALENDAR
VERSION:2.0
PRODID:http://pfarrei-steinbach.de
BEGIN:VEVENT
UID:be7b8c84-2b4d-11f1-a15b-0242ac11002b-1777219200000-de
DTSTAMP:20260329T090033Z
DTSTART:20260426T160000Z
DTEND:20260426T170000Z
SUMMARY;LANGUAGE=de:Eucharistiefeier für die Pfarrgemeinden im Seelsorgebereich
END:VEVENT
END:VCALENDAR
