BEGIN:VCALENDAR
VERSION:2.0
PRODID:http://pfarrei-steinbach.de
BEGIN:VEVENT
UID:bc3a5383-3972-11f1-a8bf-0242ac11002b-1778749200000-de
DTSTAMP:20260416T090037Z
DTSTART:20260514T090000Z
DTEND:20260514T100000Z
SUMMARY;LANGUAGE=de:Dekanatswallfahrt - Hl. Messe für die Wallfahrer
END:VEVENT
END:VCALENDAR
