BEGIN:VCALENDAR
VERSION:2.0
PRODID:http://pfarrei-steinbach.de
BEGIN:VEVENT
UID:b0780aad-36ba-11f1-a8bf-0242ac11002b-1777906800000-de
DTSTAMP:20260412T215807Z
DTSTART:20260504T150000Z
DTEND:20260504T160000Z
SUMMARY;LANGUAGE=de:Ewige Anbetung; Eucharistische Andacht mit Aussetzung des Allerheiligsten und
DESCRIPTION;LANGUAGE=de:1. Betstunde
END:VEVENT
END:VCALENDAR
