BEGIN:VCALENDAR
VERSION:2.0
PRODID:http://pfarrei-steinbach.de
BEGIN:VEVENT
UID:82a679bc-2f3b-11f1-a8bf-0242ac11002b-1777615200000-de
DTSTAMP:20260403T090006Z
DTSTART:20260501T060000Z
DTEND:20260501T070000Z
SUMMARY;LANGUAGE=de:Eucharistiefeier mit deutschen Kirchenliedern (Domkapitel)
END:VEVENT
END:VCALENDAR
