BEGIN:VCALENDAR
VERSION:2.0
PRODID:http://pfarrei-steinbach.de
BEGIN:VEVENT
UID:09a4f2e4-364e-11f1-a8bf-0242ac11002b-1778428800000-de
DTSTAMP:20260412T090022Z
DTSTART:20260510T160000Z
DTEND:20260510T170000Z
SUMMARY;LANGUAGE=de:Eucharistiefeier für die Pfarrgemeinden im Seelsorgebereich
END:VEVENT
END:VCALENDAR
