BEGIN:VCALENDAR
VERSION:2.0
PRODID:http://pfarrei-steinbach.de
BEGIN:VEVENT
UID:025a4e2b-3fbc-11f1-a8bf-0242ac11002b-1779462000000-de
DTSTAMP:20260424T090015Z
DTSTART:20260522T150000Z
DTEND:20260522T160000Z
SUMMARY;LANGUAGE=de:Ökum. Maiandacht am Familienareal in Pommersfelden
END:VEVENT
END:VCALENDAR
