BEGIN:VCALENDAR
VERSION:2.0
PRODID:http://pfarrei-steinbach.de
BEGIN:VEVENT
UID:02197489-3fbc-11f1-a8bf-0242ac11002b-1779465600000-de
DTSTAMP:20260424T090014Z
DTSTART:20260522T160000Z
DTEND:20260522T170000Z
SUMMARY;LANGUAGE=de:Festgottesdienst zu 40 Jahre Frankenschluckis und Vereinsgottesdienst für die Zettmannsdorfer Vereine
END:VEVENT
END:VCALENDAR
